BEGIN:VCALENDAR
VERSION:2.0
PRODID:-//Crous Rennes Bretagne - ECPv6.15.20//NONSGML v1.0//EN
CALSCALE:GREGORIAN
METHOD:PUBLISH
X-WR-CALNAME:Crous Rennes Bretagne
X-ORIGINAL-URL:https://www.crous-rennes.fr
X-WR-CALDESC:Évènements pour Crous Rennes Bretagne
REFRESH-INTERVAL;VALUE=DURATION:PT1H
X-Robots-Tag:noindex
X-PUBLISHED-TTL:PT1H
BEGIN:VTIMEZONE
TZID:Europe/Paris
BEGIN:DAYLIGHT
TZOFFSETFROM:+0100
TZOFFSETTO:+0200
TZNAME:CEST
DTSTART:20240331T010000
END:DAYLIGHT
BEGIN:STANDARD
TZOFFSETFROM:+0200
TZOFFSETTO:+0100
TZNAME:CET
DTSTART:20241027T010000
END:STANDARD
BEGIN:DAYLIGHT
TZOFFSETFROM:+0100
TZOFFSETTO:+0200
TZNAME:CEST
DTSTART:20250330T010000
END:DAYLIGHT
BEGIN:STANDARD
TZOFFSETFROM:+0200
TZOFFSETTO:+0100
TZNAME:CET
DTSTART:20251026T010000
END:STANDARD
BEGIN:DAYLIGHT
TZOFFSETFROM:+0100
TZOFFSETTO:+0200
TZNAME:CEST
DTSTART:20260329T010000
END:DAYLIGHT
BEGIN:STANDARD
TZOFFSETFROM:+0200
TZOFFSETTO:+0100
TZNAME:CET
DTSTART:20261025T010000
END:STANDARD
END:VTIMEZONE
BEGIN:VEVENT
DTSTART;TZID=Europe/Paris:20250405T073000
DTEND;TZID=Europe/Paris:20250405T183000
DTSTAMP:20260420T111740
CREATED:20250314T130423Z
LAST-MODIFIED:20250314T130423Z
UID:9250-1743838200-1743877800@www.crous-rennes.fr
SUMMARY:Visite du Mont Saint Michel - Brest
DESCRIPTION:[vc_row][vc_column][vc_column_text] \nBreton ou normand\, qu’est ce que ça change ?\nSamedi 05 avril\, embarquez pour une visite du Mont Saint Michel !\nAbbaye\, baie et fortifications sont au programme. \nDépart à 07h30\, rendez-vous devant le Resto U’ Kergoat.\nTransport pris en charge par le Crous. \nSORTIE GRATUITE\nPlaces limitées – inscription obligatoire par mail\nMerci de préciser : votre nom\, prénom\, résidence et n° de logement\n \n[/vc_column_text][/vc_column][/vc_row][vc_row][vc_column][/vc_column][/vc_row] \n  \n  \n 
URL:https://www.crous-rennes.fr/evenement/visite-du-mont-saint-michel-brest/
LOCATION:Resto U’ Kergoat\, Brest
CATEGORIES:Animation en résidence,Brest
ATTACH;FMTTYPE=image/jpeg:https://www.crous-rennes.fr/wp-content/uploads/sites/27/2025/03/Agenda_Mont-St-Michel-compressed-scaled.jpg
END:VEVENT
END:VCALENDAR